BEGIN:VCALENDAR
VERSION:2.0
PRODID:-//Belle Plaine Chamber of Commerce - ECPv6.15.20//NONSGML v1.0//EN
CALSCALE:GREGORIAN
METHOD:PUBLISH
X-ORIGINAL-URL:https://belleplainechamber.com
X-WR-CALDESC:Events for Belle Plaine Chamber of Commerce
REFRESH-INTERVAL;VALUE=DURATION:PT1H
X-Robots-Tag:noindex
X-PUBLISHED-TTL:PT1H
BEGIN:VTIMEZONE
TZID:America/Chicago
BEGIN:DAYLIGHT
TZOFFSETFROM:-0600
TZOFFSETTO:-0500
TZNAME:CDT
DTSTART:20250309T080000
END:DAYLIGHT
BEGIN:STANDARD
TZOFFSETFROM:-0500
TZOFFSETTO:-0600
TZNAME:CST
DTSTART:20251102T070000
END:STANDARD
BEGIN:DAYLIGHT
TZOFFSETFROM:-0600
TZOFFSETTO:-0500
TZNAME:CDT
DTSTART:20260308T080000
END:DAYLIGHT
BEGIN:STANDARD
TZOFFSETFROM:-0500
TZOFFSETTO:-0600
TZNAME:CST
DTSTART:20261101T070000
END:STANDARD
BEGIN:DAYLIGHT
TZOFFSETFROM:-0600
TZOFFSETTO:-0500
TZNAME:CDT
DTSTART:20270314T080000
END:DAYLIGHT
BEGIN:STANDARD
TZOFFSETFROM:-0500
TZOFFSETTO:-0600
TZNAME:CST
DTSTART:20271107T070000
END:STANDARD
END:VTIMEZONE
BEGIN:VEVENT
DTSTART;TZID=America/Chicago:20260609T183000
DTEND;TZID=America/Chicago:20260609T200000
DTSTAMP:20260424T181213
CREATED:20260119T001719Z
LAST-MODIFIED:20260119T001720Z
UID:2509-1781029800-1781035200@belleplainechamber.com
SUMMARY:Chamber Member Meeting
DESCRIPTION:You're invited to join us for our next BPAC Planning Meeting on Tuesday\, February 17th at 6 PM! We will be planning Pi(e) Day Baking Contest and more upcoming events.\n\nBPAC (Belle Plaine Activities Committee) is a group dedicated to bringing fun\, inclusive\, and meaningful events to our community. From the downtown banners to planning events like pool day\, movie nights\, and more. We want YOU to be part of it.\n\nBring your ideas\, your energy\, and your neighbors! Everyone is welcome.￼Let’s build something great together!
URL:https://belleplainechamber.com/event/chamber-member-meeting-2/
LOCATION:Belle Plaine Community Center\, 528 N Merchant\, Belle Plaine\, Kansas\, 67013\, United States
CATEGORIES:Belle Plaine Area Chamber Of Commerce
ORGANIZER;CN="Belle Plaine Area Chamber of Commerce":MAILTO:belleplainechamber@gmail.com
END:VEVENT
END:VCALENDAR