BEGIN:VCALENDAR
VERSION:2.0
PRODID:-//Belle Plaine Chamber of Commerce - ECPv6.15.20//NONSGML v1.0//EN
CALSCALE:GREGORIAN
METHOD:PUBLISH
X-WR-CALNAME:Belle Plaine Chamber of Commerce
X-ORIGINAL-URL:https://belleplainechamber.com
X-WR-CALDESC:Events for Belle Plaine Chamber of Commerce
REFRESH-INTERVAL;VALUE=DURATION:PT1H
X-Robots-Tag:noindex
X-PUBLISHED-TTL:PT1H
BEGIN:VTIMEZONE
TZID:America/Chicago
BEGIN:DAYLIGHT
TZOFFSETFROM:-0600
TZOFFSETTO:-0500
TZNAME:CDT
DTSTART:20250309T080000
END:DAYLIGHT
BEGIN:STANDARD
TZOFFSETFROM:-0500
TZOFFSETTO:-0600
TZNAME:CST
DTSTART:20251102T070000
END:STANDARD
BEGIN:DAYLIGHT
TZOFFSETFROM:-0600
TZOFFSETTO:-0500
TZNAME:CDT
DTSTART:20260308T080000
END:DAYLIGHT
BEGIN:STANDARD
TZOFFSETFROM:-0500
TZOFFSETTO:-0600
TZNAME:CST
DTSTART:20261101T070000
END:STANDARD
BEGIN:DAYLIGHT
TZOFFSETFROM:-0600
TZOFFSETTO:-0500
TZNAME:CDT
DTSTART:20270314T080000
END:DAYLIGHT
BEGIN:STANDARD
TZOFFSETFROM:-0500
TZOFFSETTO:-0600
TZNAME:CST
DTSTART:20271107T070000
END:STANDARD
END:VTIMEZONE
BEGIN:VEVENT
DTSTART;TZID=America/Chicago:20260114T183000
DTEND;TZID=America/Chicago:20260114T200000
DTSTAMP:20260425T105446
CREATED:20260111T191102Z
LAST-MODIFIED:20260111T193401Z
UID:2456-1768415400-1768420800@belleplainechamber.com
SUMMARY:Belle Plaine's Downtown Festival Planning Meeting
DESCRIPTION:Belle Plaine’s Downtown Festival kicks off at 5 pm Friday! The Downtown Stage will come alive with opening ceremonies and the Talent Show. Food trucks and a beer tent will be open. The Glow Run will race to the Stage. We’ll get our groove on with a street dance\, music\, and disco lights. \nSaturday will be packed with fun for all ages. \nThe morning starts big with 3-on-3 Basketball\, the Car Show on Merchant with performances by The CarTunes\, and the first annual Swap Meet Downtown! \nThe Downtown Parade is at 11am\, followed by KidsFest at the middle school grounds. The BPQ Competition and Tasting has moved DOWNTOWN for the first time! Don’t miss your opportunity to check out award-winning meats! Along with the food court\, the beer tent will be open. \nThe Festival closes Saturday at four with a cruise out parade of Car Show participants. \nFollow Belle Plaine’s Downtown Festival for information and announcements. \nFor Festival information\, events & registration forms please visit www.belleplainefestival.com
URL:https://belleplainechamber.com/event/belle-plaines-downtown-festival-planning-meeting/
LOCATION:Belle Plaine Historical Museum\, 204 W 5th Ave\, Belle Plaine\, KS\, 67013\, United States
CATEGORIES:Belle Plaine's Downtown Festival
ORGANIZER;CN="Belle Plaine Downtown Festival Committee":MAILTO:Belleplainefestival@gmail.com
END:VEVENT
BEGIN:VEVENT
DTSTART;TZID=America/Chicago:20260112T180000
DTEND;TZID=America/Chicago:20260112T210000
DTSTAMP:20260425T105446
CREATED:20260111T194023Z
LAST-MODIFIED:20260111T194110Z
UID:2471-1768240800-1768251600@belleplainechamber.com
SUMMARY:Belle Plaine Historical Museum Open
DESCRIPTION:Belle Plaine’s Downtown Festival kicks off at 5 pm Friday! The Downtown Stage will come alive with opening ceremonies and the Talent Show. Food trucks and a beer tent will be open. The Glow Run will race to the Stage. We’ll get our groove on with a street dance\, music\, and disco lights. \nSaturday will be packed with fun for all ages. \nThe morning starts big with 3-on-3 Basketball\, the Car Show on Merchant with performances by The CarTunes\, and the first annual Swap Meet Downtown! \nThe Downtown Parade is at 11am\, followed by KidsFest at the middle school grounds. The BPQ Competition and Tasting has moved DOWNTOWN for the first time! Don’t miss your opportunity to check out award-winning meats! Along with the food court\, the beer tent will be open. \nThe Festival closes Saturday at four with a cruise out parade of Car Show participants. \nFollow Belle Plaine’s Downtown Festival for information and announcements. \nFor Festival information\, events & registration forms please visit www.belleplainefestival.com
URL:https://belleplainechamber.com/event/belle-plaine-historical-museum-open/
LOCATION:Belle Plaine Historical Museum\, 204 W 5th Ave\, Belle Plaine\, KS\, 67013\, United States
CATEGORIES:Belle Plaine Historical Museum
ORGANIZER;CN="Belle Plaine Historical Museum":MAILTO:bpmuseum@sktc.net
END:VEVENT
END:VCALENDAR