BEGIN:VCALENDAR
VERSION:2.0
PRODID:-//Belle Plaine Chamber of Commerce - ECPv6.15.20//NONSGML v1.0//EN
CALSCALE:GREGORIAN
METHOD:PUBLISH
X-WR-CALNAME:Belle Plaine Chamber of Commerce
X-ORIGINAL-URL:https://belleplainechamber.com
X-WR-CALDESC:Events for Belle Plaine Chamber of Commerce
REFRESH-INTERVAL;VALUE=DURATION:PT1H
X-Robots-Tag:noindex
X-PUBLISHED-TTL:PT1H
BEGIN:VTIMEZONE
TZID:America/Chicago
BEGIN:DAYLIGHT
TZOFFSETFROM:-0600
TZOFFSETTO:-0500
TZNAME:CDT
DTSTART:20250309T080000
END:DAYLIGHT
BEGIN:STANDARD
TZOFFSETFROM:-0500
TZOFFSETTO:-0600
TZNAME:CST
DTSTART:20251102T070000
END:STANDARD
BEGIN:DAYLIGHT
TZOFFSETFROM:-0600
TZOFFSETTO:-0500
TZNAME:CDT
DTSTART:20260308T080000
END:DAYLIGHT
BEGIN:STANDARD
TZOFFSETFROM:-0500
TZOFFSETTO:-0600
TZNAME:CST
DTSTART:20261101T070000
END:STANDARD
BEGIN:DAYLIGHT
TZOFFSETFROM:-0600
TZOFFSETTO:-0500
TZNAME:CDT
DTSTART:20270314T080000
END:DAYLIGHT
BEGIN:STANDARD
TZOFFSETFROM:-0500
TZOFFSETTO:-0600
TZNAME:CST
DTSTART:20271107T070000
END:STANDARD
END:VTIMEZONE
BEGIN:VEVENT
DTSTART;TZID=America/Chicago:20260411T090000
DTEND;TZID=America/Chicago:20260411T170000
DTSTAMP:20260425T054632
CREATED:20260111T193245Z
LAST-MODIFIED:20260111T193246Z
UID:2467-1775898000-1775926800@belleplainechamber.com
SUMMARY:Belle Plaine's Downtown Festival
DESCRIPTION:Pi Day Pie Baking Contest And Frito Chili Pie Feed\n\nA fundraiser for the Belle Plane Activities Committee\n\nWhere: Belle Plaine Community CenterDate: Saturday\, March 14thTime: 4–7 pm\n\nDrop pies off at the Belle Plaine Community Center 2–4 pm.\n\nCalling All Pie Bakers!\n* Bakers of all ages and skill levels may enter.* Each entrant must supply two matching pies. One for the tasting contest and one for the pie slice sale.* Disposable plates are preferred\, but plates will be returned after the contest.\n\nPrizes for Best Pie—1st\, 2nd\, and 3rd place and bragging rights!\n\n$5 Frito Chili Pie Feed includes a pie tasting kit\n$5 for a standalone pie tasting kit\nWant more than a taste of pie? Get a whole slice for $2.
URL:https://belleplainechamber.com/event/belle-plaines-downtown-festival-2/
LOCATION:Downtown Belle Plaine\, 5th and Merchant\, Belle Plaine\, KS\, 67013\, United States
CATEGORIES:Belle Plaine's Downtown Festival
ORGANIZER;CN="Belle Plaine Downtown Festival Committee":MAILTO:Belleplainefestival@gmail.com
END:VEVENT
BEGIN:VEVENT
DTSTART;TZID=America/Chicago:20260410T170000
DTEND;TZID=America/Chicago:20260410T230000
DTSTAMP:20260425T054632
CREATED:20260111T193128Z
LAST-MODIFIED:20260111T193128Z
UID:2463-1775840400-1775862000@belleplainechamber.com
SUMMARY:Belle Plaine's Downtown Festival
DESCRIPTION:Pi Day Pie Baking Contest And Frito Chili Pie Feed\n\nA fundraiser for the Belle Plane Activities Committee\n\nWhere: Belle Plaine Community CenterDate: Saturday\, March 14thTime: 4–7 pm\n\nDrop pies off at the Belle Plaine Community Center 2–4 pm.\n\nCalling All Pie Bakers!\n* Bakers of all ages and skill levels may enter.* Each entrant must supply two matching pies. One for the tasting contest and one for the pie slice sale.* Disposable plates are preferred\, but plates will be returned after the contest.\n\nPrizes for Best Pie—1st\, 2nd\, and 3rd place and bragging rights!\n\n$5 Frito Chili Pie Feed includes a pie tasting kit\n$5 for a standalone pie tasting kit\nWant more than a taste of pie? Get a whole slice for $2.
URL:https://belleplainechamber.com/event/belle-plaines-downtown-festival/
LOCATION:Downtown Belle Plaine\, 5th and Merchant\, Belle Plaine\, KS\, 67013\, United States
CATEGORIES:Belle Plaine's Downtown Festival
ORGANIZER;CN="Belle Plaine Downtown Festival Committee":MAILTO:Belleplainefestival@gmail.com
END:VEVENT
BEGIN:VEVENT
DTSTART;TZID=America/Chicago:20260314T160000
DTEND;TZID=America/Chicago:20260314T190000
DTSTAMP:20260425T054632
CREATED:20260127T013458Z
LAST-MODIFIED:20260127T013458Z
UID:2542-1773504000-1773514800@belleplainechamber.com
SUMMARY:Pi Day Pie Baking Contest and Frito Chili Pie Feed
DESCRIPTION:Pi Day Pie Baking Contest And Frito Chili Pie Feed\n\nA fundraiser for the Belle Plane Activities Committee\n\nWhere: Belle Plaine Community CenterDate: Saturday\, March 14thTime: 4–7 pm\n\nDrop pies off at the Belle Plaine Community Center 2–4 pm.\n\nCalling All Pie Bakers!\n* Bakers of all ages and skill levels may enter.* Each entrant must supply two matching pies. One for the tasting contest and one for the pie slice sale.* Disposable plates are preferred\, but plates will be returned after the contest.\n\nPrizes for Best Pie—1st\, 2nd\, and 3rd place and bragging rights!\n\n$5 Frito Chili Pie Feed includes a pie tasting kit\n$5 for a standalone pie tasting kit\nWant more than a taste of pie? Get a whole slice for $2.
URL:https://belleplainechamber.com/event/pi-day-pie-baking-contest-and-frito-chili-pie-feed/
LOCATION:Belle Plaine Community Center\, 528 N Merchant\, Belle Plaine\, Kansas\, 67013\, United States
CATEGORIES:Belle Plaine Activities Committee
ORGANIZER;CN="Belle Plaine Activities Committee":MAILTO:bpac67013@gmail.com
END:VEVENT
BEGIN:VEVENT
DTSTART;TZID=America/Chicago:20260310T183000
DTEND;TZID=America/Chicago:20260310T200000
DTSTAMP:20260425T054632
CREATED:20260119T001405Z
LAST-MODIFIED:20260119T001527Z
UID:2506-1773167400-1773172800@belleplainechamber.com
SUMMARY:Chamber Member Meeting
DESCRIPTION:Pi Day Pie Baking Contest And Frito Chili Pie Feed\n\nA fundraiser for the Belle Plane Activities Committee\n\nWhere: Belle Plaine Community CenterDate: Saturday\, March 14thTime: 4–7 pm\n\nDrop pies off at the Belle Plaine Community Center 2–4 pm.\n\nCalling All Pie Bakers!\n* Bakers of all ages and skill levels may enter.* Each entrant must supply two matching pies. One for the tasting contest and one for the pie slice sale.* Disposable plates are preferred\, but plates will be returned after the contest.\n\nPrizes for Best Pie—1st\, 2nd\, and 3rd place and bragging rights!\n\n$5 Frito Chili Pie Feed includes a pie tasting kit\n$5 for a standalone pie tasting kit\nWant more than a taste of pie? Get a whole slice for $2.
URL:https://belleplainechamber.com/event/chamber-member-meeting/
LOCATION:Belle Plaine Community Center\, 528 N Merchant\, Belle Plaine\, Kansas\, 67013\, United States
CATEGORIES:Belle Plaine Area Chamber Of Commerce
ORGANIZER;CN="Belle Plaine Area Chamber of Commerce":MAILTO:belleplainechamber@gmail.com
END:VEVENT
BEGIN:VEVENT
DTSTART;TZID=America/Chicago:20260217T180000
DTEND;TZID=America/Chicago:20260217T193000
DTSTAMP:20260425T054632
CREATED:20260127T012907Z
LAST-MODIFIED:20260127T013111Z
UID:2537-1771351200-1771356600@belleplainechamber.com
SUMMARY:Belle Plaine Activities Committee Meeting
DESCRIPTION:Pi Day Pie Baking Contest And Frito Chili Pie Feed\n\nA fundraiser for the Belle Plane Activities Committee\n\nWhere: Belle Plaine Community CenterDate: Saturday\, March 14thTime: 4–7 pm\n\nDrop pies off at the Belle Plaine Community Center 2–4 pm.\n\nCalling All Pie Bakers!\n* Bakers of all ages and skill levels may enter.* Each entrant must supply two matching pies. One for the tasting contest and one for the pie slice sale.* Disposable plates are preferred\, but plates will be returned after the contest.\n\nPrizes for Best Pie—1st\, 2nd\, and 3rd place and bragging rights!\n\n$5 Frito Chili Pie Feed includes a pie tasting kit\n$5 for a standalone pie tasting kit\nWant more than a taste of pie? Get a whole slice for $2.
URL:https://belleplainechamber.com/event/2537/
LOCATION:Belle Plaine Historical Museum\, 204 W 5th Ave\, Belle Plaine\, KS\, 67013\, United States
CATEGORIES:Belle Plaine Activities Committee
ORGANIZER;CN="Belle Plaine Activities Committee":MAILTO:bpac67013@gmail.com
END:VEVENT
BEGIN:VEVENT
DTSTART;TZID=America/Chicago:20260211T180000
DTEND;TZID=America/Chicago:20260211T200000
DTSTAMP:20260425T054632
CREATED:20260119T004337Z
LAST-MODIFIED:20260119T004337Z
UID:2529-1770832800-1770840000@belleplainechamber.com
SUMMARY:Belle Plaine's Downtown Festival Planning Meeting
DESCRIPTION:Pi Day Pie Baking Contest And Frito Chili Pie Feed\n\nA fundraiser for the Belle Plane Activities Committee\n\nWhere: Belle Plaine Community CenterDate: Saturday\, March 14thTime: 4–7 pm\n\nDrop pies off at the Belle Plaine Community Center 2–4 pm.\n\nCalling All Pie Bakers!\n* Bakers of all ages and skill levels may enter.* Each entrant must supply two matching pies. One for the tasting contest and one for the pie slice sale.* Disposable plates are preferred\, but plates will be returned after the contest.\n\nPrizes for Best Pie—1st\, 2nd\, and 3rd place and bragging rights!\n\n$5 Frito Chili Pie Feed includes a pie tasting kit\n$5 for a standalone pie tasting kit\nWant more than a taste of pie? Get a whole slice for $2.
URL:https://belleplainechamber.com/event/belle-plaines-downtown-festival-planning-meeting-2/
LOCATION:Belle Plaine Historical Museum\, 204 W 5th Ave\, Belle Plaine\, KS\, 67013\, United States
CATEGORIES:Belle Plaine's Downtown Festival
ORGANIZER;CN="Belle Plaine Downtown Festival Committee":MAILTO:Belleplainefestival@gmail.com
END:VEVENT
BEGIN:VEVENT
DTSTART;TZID=America/Chicago:20260207T160000
DTEND;TZID=America/Chicago:20260207T190000
DTSTAMP:20260425T054632
CREATED:20260119T004146Z
LAST-MODIFIED:20260119T004146Z
UID:2525-1770480000-1770490800@belleplainechamber.com
SUMMARY:Ground Hog Feed
DESCRIPTION:Pi Day Pie Baking Contest And Frito Chili Pie Feed\n\nA fundraiser for the Belle Plane Activities Committee\n\nWhere: Belle Plaine Community CenterDate: Saturday\, March 14thTime: 4–7 pm\n\nDrop pies off at the Belle Plaine Community Center 2–4 pm.\n\nCalling All Pie Bakers!\n* Bakers of all ages and skill levels may enter.* Each entrant must supply two matching pies. One for the tasting contest and one for the pie slice sale.* Disposable plates are preferred\, but plates will be returned after the contest.\n\nPrizes for Best Pie—1st\, 2nd\, and 3rd place and bragging rights!\n\n$5 Frito Chili Pie Feed includes a pie tasting kit\n$5 for a standalone pie tasting kit\nWant more than a taste of pie? Get a whole slice for $2.
URL:https://belleplainechamber.com/event/ground-hog-feed/
LOCATION:Belle Plaine Community Center\, 528 N Merchant\, Belle Plaine\, Kansas\, 67013\, United States
CATEGORIES:Belle Plaine Historical Museum
ORGANIZER;CN="Belle Plaine Historical Museum":MAILTO:bpmuseum@sktc.net
END:VEVENT
BEGIN:VEVENT
DTSTART;TZID=America/Chicago:20260131T180000
DTEND;TZID=America/Chicago:20260131T200000
DTSTAMP:20260425T054632
CREATED:20260119T000441Z
LAST-MODIFIED:20260121T011033Z
UID:2503-1769882400-1769889600@belleplainechamber.com
SUMMARY:BINGO Night!
DESCRIPTION:Pi Day Pie Baking Contest And Frito Chili Pie Feed\n\nA fundraiser for the Belle Plane Activities Committee\n\nWhere: Belle Plaine Community CenterDate: Saturday\, March 14thTime: 4–7 pm\n\nDrop pies off at the Belle Plaine Community Center 2–4 pm.\n\nCalling All Pie Bakers!\n* Bakers of all ages and skill levels may enter.* Each entrant must supply two matching pies. One for the tasting contest and one for the pie slice sale.* Disposable plates are preferred\, but plates will be returned after the contest.\n\nPrizes for Best Pie—1st\, 2nd\, and 3rd place and bragging rights!\n\n$5 Frito Chili Pie Feed includes a pie tasting kit\n$5 for a standalone pie tasting kit\nWant more than a taste of pie? Get a whole slice for $2.
URL:https://belleplainechamber.com/event/bingo-night/
LOCATION:Belle Plaine High School Commons\, 901 N Main St\, Belle Plaine\, 67013\, United States
CATEGORIES:Belle Plaine's Downtown Festival
ORGANIZER;CN="Belle Plaine Downtown Festival Committee":MAILTO:Belleplainefestival@gmail.com
END:VEVENT
BEGIN:VEVENT
DTSTART;TZID=America/Chicago:20260120T180000
DTEND;TZID=America/Chicago:20260120T193000
DTSTAMP:20260425T054632
CREATED:20260119T002521Z
LAST-MODIFIED:20260119T003541Z
UID:2514-1768932000-1768937400@belleplainechamber.com
SUMMARY:Belle Plaine Activities Meeting
DESCRIPTION:Pi Day Pie Baking Contest And Frito Chili Pie Feed\n\nA fundraiser for the Belle Plane Activities Committee\n\nWhere: Belle Plaine Community CenterDate: Saturday\, March 14thTime: 4–7 pm\n\nDrop pies off at the Belle Plaine Community Center 2–4 pm.\n\nCalling All Pie Bakers!\n* Bakers of all ages and skill levels may enter.* Each entrant must supply two matching pies. One for the tasting contest and one for the pie slice sale.* Disposable plates are preferred\, but plates will be returned after the contest.\n\nPrizes for Best Pie—1st\, 2nd\, and 3rd place and bragging rights!\n\n$5 Frito Chili Pie Feed includes a pie tasting kit\n$5 for a standalone pie tasting kit\nWant more than a taste of pie? Get a whole slice for $2.
URL:https://belleplainechamber.com/event/belle-plaine-activities-meeting/
LOCATION:Belle Plaine Historical Museum\, 204 W 5th Ave\, Belle Plaine\, KS\, 67013\, United States
CATEGORIES:Belle Plaine Activities Committee
ORGANIZER;CN="Belle Plaine Activities Committee":MAILTO:bpac67013@gmail.com
END:VEVENT
BEGIN:VEVENT
DTSTART;TZID=America/Chicago:20260114T183000
DTEND;TZID=America/Chicago:20260114T200000
DTSTAMP:20260425T054632
CREATED:20260111T191102Z
LAST-MODIFIED:20260111T193401Z
UID:2456-1768415400-1768420800@belleplainechamber.com
SUMMARY:Belle Plaine's Downtown Festival Planning Meeting
DESCRIPTION:Pi Day Pie Baking Contest And Frito Chili Pie Feed\n\nA fundraiser for the Belle Plane Activities Committee\n\nWhere: Belle Plaine Community CenterDate: Saturday\, March 14thTime: 4–7 pm\n\nDrop pies off at the Belle Plaine Community Center 2–4 pm.\n\nCalling All Pie Bakers!\n* Bakers of all ages and skill levels may enter.* Each entrant must supply two matching pies. One for the tasting contest and one for the pie slice sale.* Disposable plates are preferred\, but plates will be returned after the contest.\n\nPrizes for Best Pie—1st\, 2nd\, and 3rd place and bragging rights!\n\n$5 Frito Chili Pie Feed includes a pie tasting kit\n$5 for a standalone pie tasting kit\nWant more than a taste of pie? Get a whole slice for $2.
URL:https://belleplainechamber.com/event/belle-plaines-downtown-festival-planning-meeting/
LOCATION:Belle Plaine Historical Museum\, 204 W 5th Ave\, Belle Plaine\, KS\, 67013\, United States
CATEGORIES:Belle Plaine's Downtown Festival
ORGANIZER;CN="Belle Plaine Downtown Festival Committee":MAILTO:Belleplainefestival@gmail.com
END:VEVENT
BEGIN:VEVENT
DTSTART;TZID=America/Chicago:20260112T180000
DTEND;TZID=America/Chicago:20260112T210000
DTSTAMP:20260425T054632
CREATED:20260111T194023Z
LAST-MODIFIED:20260111T194110Z
UID:2471-1768240800-1768251600@belleplainechamber.com
SUMMARY:Belle Plaine Historical Museum Open
DESCRIPTION:Pi Day Pie Baking Contest And Frito Chili Pie Feed\n\nA fundraiser for the Belle Plane Activities Committee\n\nWhere: Belle Plaine Community CenterDate: Saturday\, March 14thTime: 4–7 pm\n\nDrop pies off at the Belle Plaine Community Center 2–4 pm.\n\nCalling All Pie Bakers!\n* Bakers of all ages and skill levels may enter.* Each entrant must supply two matching pies. One for the tasting contest and one for the pie slice sale.* Disposable plates are preferred\, but plates will be returned after the contest.\n\nPrizes for Best Pie—1st\, 2nd\, and 3rd place and bragging rights!\n\n$5 Frito Chili Pie Feed includes a pie tasting kit\n$5 for a standalone pie tasting kit\nWant more than a taste of pie? Get a whole slice for $2.
URL:https://belleplainechamber.com/event/belle-plaine-historical-museum-open/
LOCATION:Belle Plaine Historical Museum\, 204 W 5th Ave\, Belle Plaine\, KS\, 67013\, United States
CATEGORIES:Belle Plaine Historical Museum
ORGANIZER;CN="Belle Plaine Historical Museum":MAILTO:bpmuseum@sktc.net
END:VEVENT
END:VCALENDAR