BEGIN:VCALENDAR
VERSION:2.0
PRODID:-//Belle Plaine Chamber of Commerce - ECPv6.15.20//NONSGML v1.0//EN
CALSCALE:GREGORIAN
METHOD:PUBLISH
X-ORIGINAL-URL:https://belleplainechamber.com
X-WR-CALDESC:Events for Belle Plaine Chamber of Commerce
REFRESH-INTERVAL;VALUE=DURATION:PT1H
X-Robots-Tag:noindex
X-PUBLISHED-TTL:PT1H
BEGIN:VTIMEZONE
TZID:America/Chicago
BEGIN:DAYLIGHT
TZOFFSETFROM:-0600
TZOFFSETTO:-0500
TZNAME:CDT
DTSTART:20250309T080000
END:DAYLIGHT
BEGIN:STANDARD
TZOFFSETFROM:-0500
TZOFFSETTO:-0600
TZNAME:CST
DTSTART:20251102T070000
END:STANDARD
BEGIN:DAYLIGHT
TZOFFSETFROM:-0600
TZOFFSETTO:-0500
TZNAME:CDT
DTSTART:20260308T080000
END:DAYLIGHT
BEGIN:STANDARD
TZOFFSETFROM:-0500
TZOFFSETTO:-0600
TZNAME:CST
DTSTART:20261101T070000
END:STANDARD
BEGIN:DAYLIGHT
TZOFFSETFROM:-0600
TZOFFSETTO:-0500
TZNAME:CDT
DTSTART:20270314T080000
END:DAYLIGHT
BEGIN:STANDARD
TZOFFSETFROM:-0500
TZOFFSETTO:-0600
TZNAME:CST
DTSTART:20271107T070000
END:STANDARD
END:VTIMEZONE
BEGIN:VEVENT
DTSTART;TZID=America/Chicago:20260410T170000
DTEND;TZID=America/Chicago:20260410T230000
DTSTAMP:20260424T114055
CREATED:20260111T193128Z
LAST-MODIFIED:20260111T193128Z
UID:2463-1775840400-1775862000@belleplainechamber.com
SUMMARY:Belle Plaine's Downtown Festival
DESCRIPTION:Pi Day Pie Baking Contest And Frito Chili Pie Feed\n\nA fundraiser for the Belle Plane Activities Committee\n\nWhere: Belle Plaine Community CenterDate: Saturday\, March 14thTime: 4–7 pm\n\nDrop pies off at the Belle Plaine Community Center 2–4 pm.\n\nCalling All Pie Bakers!\n* Bakers of all ages and skill levels may enter.* Each entrant must supply two matching pies. One for the tasting contest and one for the pie slice sale.* Disposable plates are preferred\, but plates will be returned after the contest.\n\nPrizes for Best Pie—1st\, 2nd\, and 3rd place and bragging rights!\n\n$5 Frito Chili Pie Feed includes a pie tasting kit\n$5 for a standalone pie tasting kit\nWant more than a taste of pie? Get a whole slice for $2.
URL:https://belleplainechamber.com/event/belle-plaines-downtown-festival/
LOCATION:Downtown Belle Plaine\, 5th and Merchant\, Belle Plaine\, KS\, 67013\, United States
CATEGORIES:Belle Plaine's Downtown Festival
ORGANIZER;CN="Belle Plaine Downtown Festival Committee":MAILTO:Belleplainefestival@gmail.com
END:VEVENT
END:VCALENDAR